BEGIN:VCALENDAR
VERSION:2.0
PRODID:-//1918 Catering - ECPv5.0.2.1//NONSGML v1.0//EN
CALSCALE:GREGORIAN
METHOD:PUBLISH
X-WR-CALNAME:1918 Catering
X-ORIGINAL-URL:http://www.1918catering.com
X-WR-CALDESC:Events for 1918 Catering
BEGIN:VTIMEZONE
TZID:America/Chicago
BEGIN:DAYLIGHT
TZOFFSETFROM:-0600
TZOFFSETTO:-0500
TZNAME:CDT
DTSTART:20240310T080000
END:DAYLIGHT
BEGIN:STANDARD
TZOFFSETFROM:-0500
TZOFFSETTO:-0600
TZNAME:CST
DTSTART:20241103T070000
END:STANDARD
END:VTIMEZONE
BEGIN:VEVENT
DTSTART;TZID=America/Chicago:20240213T110000
DTEND;TZID=America/Chicago:20240213T190000
DTSTAMP:20260419T140202
CREATED:20240208T165712Z
LAST-MODIFIED:20240208T170129Z
UID:2917-1707822000-1707850800@www.1918catering.com
SUMMARY:Annual Customer Appreciation - Tuesday February 13\, 2024
DESCRIPTION: \n
URL:http://www.1918catering.com/event/annual-customer-appreciation-tuesday-february-13-2024/
END:VEVENT
END:VCALENDAR