BEGIN:VCALENDAR
VERSION:2.0
PRODID:-//1918 Catering - ECPv5.0.2.1//NONSGML v1.0//EN
CALSCALE:GREGORIAN
METHOD:PUBLISH
X-WR-CALNAME:1918 Catering
X-ORIGINAL-URL:http://www.1918catering.com
X-WR-CALDESC:Events for 1918 Catering
BEGIN:VTIMEZONE
TZID:America/Chicago
BEGIN:DAYLIGHT
TZOFFSETFROM:-0600
TZOFFSETTO:-0500
TZNAME:CDT
DTSTART:20200308T080000
END:DAYLIGHT
BEGIN:STANDARD
TZOFFSETFROM:-0500
TZOFFSETTO:-0600
TZNAME:CST
DTSTART:20201101T070000
END:STANDARD
END:VTIMEZONE
BEGIN:VEVENT
DTSTART;TZID=America/Chicago:20200630T163000
DTEND;TZID=America/Chicago:20200630T190000
DTSTAMP:20260419T193801
CREATED:20200625T164711Z
LAST-MODIFIED:20200625T164711Z
UID:2635-1593534600-1593543600@www.1918catering.com
SUMMARY:Carrington Lakes - Trussville\, AL
DESCRIPTION:
URL:http://www.1918catering.com/event/carrington-lakes-trussville-al/
END:VEVENT
END:VCALENDAR