BEGIN:VCALENDAR
VERSION:2.0
PRODID:-//1918 Catering - ECPv5.0.2.1//NONSGML v1.0//EN
CALSCALE:GREGORIAN
METHOD:PUBLISH
X-WR-CALNAME:1918 Catering
X-ORIGINAL-URL:http://www.1918catering.com
X-WR-CALDESC:Events for 1918 Catering
BEGIN:VTIMEZONE
TZID:America/Chicago
BEGIN:DAYLIGHT
TZOFFSETFROM:-0600
TZOFFSETTO:-0500
TZNAME:CDT
DTSTART:20200308T080000
END:DAYLIGHT
BEGIN:STANDARD
TZOFFSETFROM:-0500
TZOFFSETTO:-0600
TZNAME:CST
DTSTART:20201101T070000
END:STANDARD
END:VTIMEZONE
BEGIN:VEVENT
DTSTART;TZID=America/Chicago:20200703T160000
DTEND;TZID=America/Chicago:20200703T220000
DTSTAMP:20260419T172423
CREATED:20200625T164926Z
LAST-MODIFIED:20200625T164926Z
UID:2641-1593792000-1593813600@www.1918catering.com
SUMMARY:Club M - Birmingham\, AL
DESCRIPTION:
URL:http://www.1918catering.com/event/club-m-birmingham-al/
END:VEVENT
END:VCALENDAR