BEGIN:VCALENDAR
VERSION:2.0
PRODID:-//1918 Catering - ECPv5.0.2.1//NONSGML v1.0//EN
CALSCALE:GREGORIAN
METHOD:PUBLISH
X-WR-CALNAME:1918 Catering
X-ORIGINAL-URL:http://www.1918catering.com
X-WR-CALDESC:Events for 1918 Catering
BEGIN:VTIMEZONE
TZID:America/Chicago
BEGIN:DAYLIGHT
TZOFFSETFROM:-0600
TZOFFSETTO:-0500
TZNAME:CDT
DTSTART:20200308T080000
END:DAYLIGHT
BEGIN:STANDARD
TZOFFSETFROM:-0500
TZOFFSETTO:-0600
TZNAME:CST
DTSTART:20201101T070000
END:STANDARD
END:VTIMEZONE
BEGIN:VEVENT
DTSTART;TZID=America/Chicago:20200701T070000
DTEND;TZID=America/Chicago:20200701T140000
DTSTAMP:20260419T191725
CREATED:20200629T170150Z
LAST-MODIFIED:20200629T170324Z
UID:2647-1593586800-1593612000@www.1918catering.com
SUMMARY:Exxon @ 830 9th Ave N Bessemer AL 35020
DESCRIPTION:
URL:http://www.1918catering.com/event/exxon-830-9th-ave-n-bessemer-al-35020/
END:VEVENT
END:VCALENDAR