BEGIN:VCALENDAR
VERSION:2.0
PRODID:-//1918 Catering - ECPv5.0.2.1//NONSGML v1.0//EN
CALSCALE:GREGORIAN
METHOD:PUBLISH
X-WR-CALNAME:1918 Catering
X-ORIGINAL-URL:http://www.1918catering.com
X-WR-CALDESC:Events for 1918 Catering
BEGIN:VTIMEZONE
TZID:America/Chicago
BEGIN:DAYLIGHT
TZOFFSETFROM:-0600
TZOFFSETTO:-0500
TZNAME:CDT
DTSTART:20190310T080000
END:DAYLIGHT
BEGIN:STANDARD
TZOFFSETFROM:-0500
TZOFFSETTO:-0600
TZNAME:CST
DTSTART:20191103T070000
END:STANDARD
END:VTIMEZONE
BEGIN:VEVENT
DTSTART;TZID=America/Chicago:20191025T190000
DTEND;TZID=America/Chicago:20191025T230000
DTSTAMP:20260419T212424
CREATED:20191024T174318Z
LAST-MODIFIED:20191024T174331Z
UID:2446-1572030000-1572044400@www.1918catering.com
SUMMARY:Magic City Classic - Friday Night Fish Fry
DESCRIPTION: \n
URL:http://www.1918catering.com/event/friday-night-fish-fry/
LOCATION:Legion Field\, 400 Graymont Ave W\, Birmingham\, AL\, 35204\, United States
END:VEVENT
END:VCALENDAR