BEGIN:VCALENDAR
VERSION:2.0
PRODID:-//1918 Catering - ECPv5.0.2.1//NONSGML v1.0//EN
CALSCALE:GREGORIAN
METHOD:PUBLISH
X-WR-CALNAME:1918 Catering
X-ORIGINAL-URL:http://www.1918catering.com
X-WR-CALDESC:Events for 1918 Catering
BEGIN:VTIMEZONE
TZID:America/Chicago
BEGIN:DAYLIGHT
TZOFFSETFROM:-0600
TZOFFSETTO:-0500
TZNAME:CDT
DTSTART:20190310T080000
END:DAYLIGHT
BEGIN:STANDARD
TZOFFSETFROM:-0500
TZOFFSETTO:-0600
TZNAME:CST
DTSTART:20191103T070000
END:STANDARD
END:VTIMEZONE
BEGIN:VEVENT
DTSTART;TZID=America/Chicago:20191026T120000
DTEND;TZID=America/Chicago:20191026T190000
DTSTAMP:20260419T211002
CREATED:20191024T174417Z
LAST-MODIFIED:20191024T174417Z
UID:2453-1572091200-1572116400@www.1918catering.com
SUMMARY:Magic City Classic - Tailgate
DESCRIPTION: \n
URL:http://www.1918catering.com/event/magic-city-classic-tailgate/
LOCATION:Legion Field\, 400 Graymont Ave W\, Birmingham\, AL\, 35204\, United States
END:VEVENT
END:VCALENDAR