BEGIN:VCALENDAR
VERSION:2.0
PRODID:-//1918 Catering - ECPv5.0.2.1//NONSGML v1.0//EN
CALSCALE:GREGORIAN
METHOD:PUBLISH
X-WR-CALNAME:1918 Catering
X-ORIGINAL-URL:http://www.1918catering.com
X-WR-CALDESC:Events for 1918 Catering
BEGIN:VTIMEZONE
TZID:America/Chicago
BEGIN:DAYLIGHT
TZOFFSETFROM:-0600
TZOFFSETTO:-0500
TZNAME:CDT
DTSTART:20190310T080000
END:DAYLIGHT
BEGIN:STANDARD
TZOFFSETFROM:-0500
TZOFFSETTO:-0600
TZNAME:CST
DTSTART:20191103T070000
END:STANDARD
END:VTIMEZONE
BEGIN:VEVENT
DTSTART;VALUE=DATE:20190614
DTEND;VALUE=DATE:20190615
DTSTAMP:20260420T004019
CREATED:20190613T052043Z
LAST-MODIFIED:20190613T052043Z
UID:2304-1560470400-1560556799@www.1918catering.com
SUMMARY:PopUp: Ghost Train Brewery
DESCRIPTION:
URL:http://www.1918catering.com/event/popup-ghost-train-brewery/
LOCATION:Ghost Train Brewery\, 2616 3rd Ave S\, Birmingham\, AL\, 35233\, United States
END:VEVENT
END:VCALENDAR