BEGIN:VCALENDAR
VERSION:2.0
PRODID:-//1918 Catering - ECPv5.0.2.1//NONSGML v1.0//EN
CALSCALE:GREGORIAN
METHOD:PUBLISH
X-WR-CALNAME:1918 Catering
X-ORIGINAL-URL:http://www.1918catering.com
X-WR-CALDESC:Events for 1918 Catering
BEGIN:VTIMEZONE
TZID:America/Chicago
BEGIN:DAYLIGHT
TZOFFSETFROM:-0600
TZOFFSETTO:-0500
TZNAME:CDT
DTSTART:20200308T080000
END:DAYLIGHT
BEGIN:STANDARD
TZOFFSETFROM:-0500
TZOFFSETTO:-0600
TZNAME:CST
DTSTART:20201101T070000
END:STANDARD
END:VTIMEZONE
BEGIN:VEVENT
DTSTART;TZID=America/Chicago:20201007T170000
DTEND;TZID=America/Chicago:20201007T190000
DTSTAMP:20260419T173901
CREATED:20201002T184139Z
LAST-MODIFIED:20201002T184139Z
UID:2672-1602090000-1602097200@www.1918catering.com
SUMMARY:Vestavia Knolls Townhomes
DESCRIPTION:3779 Haven View Cir Hoover\, AL \n
URL:http://www.1918catering.com/event/vestavia-knolls-townhomes/
END:VEVENT
END:VCALENDAR