BEGIN:VCALENDAR
VERSION:2.0
PRODID:-//1918 Catering - ECPv5.0.2.1//NONSGML v1.0//EN
CALSCALE:GREGORIAN
METHOD:PUBLISH
X-WR-CALNAME:1918 Catering
X-ORIGINAL-URL:http://www.1918catering.com
X-WR-CALDESC:Events for 1918 Catering
BEGIN:VTIMEZONE
TZID:America/Chicago
BEGIN:DAYLIGHT
TZOFFSETFROM:-0600
TZOFFSETTO:-0500
TZNAME:CDT
DTSTART:20200308T080000
END:DAYLIGHT
BEGIN:STANDARD
TZOFFSETFROM:-0500
TZOFFSETTO:-0600
TZNAME:CST
DTSTART:20201101T070000
END:STANDARD
END:VTIMEZONE
BEGIN:VEVENT
DTSTART;TZID=America/Chicago:20200704T100000
DTEND;TZID=America/Chicago:20200704T160000
DTSTAMP:20260419T173803
CREATED:20200625T165102Z
LAST-MODIFIED:20200625T165102Z
UID:2643-1593856800-1593878400@www.1918catering.com
SUMMARY:Vulcan Park - Homewood\, AL
DESCRIPTION:
URL:http://www.1918catering.com/event/vulcan-park-homewood-al/
END:VEVENT
END:VCALENDAR